0.1000000000
0.0000000000
0.0000000000
-0.1000000000
1364934.1670415460
5156293.3306313399
