0.1000000000
0.0000000000
0.0000000000
-0.1000000000
1364938.7105096963
5156284.7536998009
